BEGIN:VCALENDAR
VERSION:2.0
PRODID:-//Tukios.com/
BEGIN:VEVENT
UID:07f9de6f-7b4f-4e1c-a491-421ff345f8e9@www.magnoliafuneralhome.net
DTSTAMP:20260423T011259Z
DTSTART:20260424T160000Z
DTEND:20260424T170000Z
SUMMARY:Celebration of Life
DESCRIPTION:
URL:https://www.magnoliafuneralhome.net/obituaries/alma-austin
LOCATION:Michie First Baptist Church 5658 Hwy 22 S  Michie TN 38357
GEO:35.0561243;-88.4325104
END:VEVENT
END:VCALENDAR