BEGIN:VCALENDAR
VERSION:2.0
PRODID:-//Tukios.com/
BEGIN:VEVENT
UID:3fcd53f9-439c-4eb2-9106-6ba246c3e272@www.magnoliafuneralhome.net
DTSTAMP:20260423T011437Z
DTSTART:20260424T150000Z
DTEND:20260424T160000Z
SUMMARY:Visitation
DESCRIPTION:
URL:https://www.magnoliafuneralhome.net/obituaries/alma-austin
LOCATION:Michie First Baptist Church 5658 Hwy 22 S  Michie TN 38357
GEO:35.0561243;-88.4325104
END:VEVENT
END:VCALENDAR