BEGIN:VCALENDAR
VERSION:2.0
PRODID:-//Tukios.com/
BEGIN:VEVENT
UID:b533bb4b-5611-42da-816b-dfbc0dfe5f9a@www.magnoliafuneralhome.net
DTSTAMP:20260421T022505Z
DTSTART:20260421T220000Z
DTEND:20260422T010000Z
SUMMARY:Visitation
DESCRIPTION:
URL:https://www.magnoliafuneralhome.net/obituaries/amelia-jamieson
LOCATION: 2024 Hwy 72 East Annex  Corinth MS 38834
GEO:34.9056253;-88.487458
END:VEVENT
END:VCALENDAR