BEGIN:VCALENDAR
VERSION:2.0
PRODID:-//Tukios.com/
BEGIN:VEVENT
UID:b457a137-2e20-4648-b218-a92bb7723145@www.magnoliafuneralhome.net
DTSTAMP:20260421T022449Z
DTSTART:20260422T150000Z
DTEND:20260422T160000Z
SUMMARY:Visitation
DESCRIPTION:
URL:https://www.magnoliafuneralhome.net/obituaries/amelia-jamieson
LOCATION: 2024 Hwy 72 East Annex  Corinth MS 38834
GEO:34.9056253;-88.487458
END:VEVENT
END:VCALENDAR