BEGIN:VCALENDAR
VERSION:2.0
PRODID:-//Tukios.com/
BEGIN:VEVENT
UID:460db409-05f4-40b1-ab2f-c1ca45f05a6a@www.magnoliafuneralhome.net
DTSTAMP:20260421T022120Z
DTSTART:20260422T160000Z
DTEND:20260422T170000Z
SUMMARY:Funeral Service
DESCRIPTION:
URL:https://www.magnoliafuneralhome.net/obituaries/amelia-jamieson
LOCATION: 2024 Hwy 72 East Annex  Corinth MS 38834
GEO:34.9056253;-88.487458
END:VEVENT
END:VCALENDAR