BEGIN:VCALENDAR
VERSION:2.0
PRODID:-//Tukios.com/
BEGIN:VEVENT
UID:5c34ffb9-0f54-4fd6-bb07-0291632b6742@www.magnoliafuneralhome.net
DTSTAMP:20260421T011247Z
DTSTART:20260423T170000Z
DTEND:20260423T190000Z
SUMMARY:Visitation
DESCRIPTION:
URL:https://www.magnoliafuneralhome.net/obituaries/john-johnson
LOCATION: 2024 Hwy 72 East Annex  Corinth MS 38834
GEO:34.9056253;-88.487458
END:VEVENT
END:VCALENDAR