BEGIN:VCALENDAR
VERSION:2.0
PRODID:-//Tukios.com/
BEGIN:VEVENT
UID:5d246bc0-a8bf-4767-b35b-7b1ca1022fe9@www.magnoliafuneralhome.net
DTSTAMP:20260421T011247Z
DTSTART:20260423T190000Z
DTEND:20260423T200000Z
SUMMARY:Memorial Service
DESCRIPTION:
URL:https://www.magnoliafuneralhome.net/obituaries/john-johnson
LOCATION: 2024 Hwy 72 East Annex  Corinth MS 38834
GEO:34.9056253;-88.487458
END:VEVENT
END:VCALENDAR