BEGIN:VCALENDAR
VERSION:2.0
PRODID:-//Tukios.com/
BEGIN:VEVENT
UID:fb6770d7-16f3-4405-a4be-90a63d8ac22a@www.magnoliafuneralhome.net
DTSTAMP:20260423T234638Z
DTSTART:20260425T170000Z
DTEND:20260425T190000Z
SUMMARY:Visitation
DESCRIPTION:
URL:https://www.magnoliafuneralhome.net/obituaries/linda-odle
LOCATION:Central Baptist Church 241 Co Rd 218  Corinth MS 38834
GEO:34.9127405;-88.4356889
END:VEVENT
END:VCALENDAR