BEGIN:VCALENDAR
VERSION:2.0
PRODID:-//Tukios.com/
BEGIN:VEVENT
UID:9e24985b-b108-4c17-8779-d094d46f108f@www.magnoliafuneralhome.net
DTSTAMP:20260423T234638Z
DTSTART:20260425T190000Z
DTEND:20260425T200000Z
SUMMARY:Funeral Service
DESCRIPTION:
URL:https://www.magnoliafuneralhome.net/obituaries/linda-odle
LOCATION:Central Baptist Church 241 Co Rd 218  Corinth MS 38834
GEO:34.9127405;-88.4356889
END:VEVENT
END:VCALENDAR