BEGIN:VCALENDAR
VERSION:2.0
PRODID:-//Tukios.com/
BEGIN:VEVENT
UID:eb7a61af-d68a-42a6-b45c-605b6e33bc5a@www.magnoliafuneralhome.net
DTSTAMP:20260421T212520Z
DTSTART:20260424T170000Z
DTEND:20260424T190000Z
SUMMARY:Visitation
DESCRIPTION:
URL:https://www.magnoliafuneralhome.net/obituaries/mary-smith-2026-1
LOCATION: 2024 Hwy 72 East Annex  Corinth MS 38834
GEO:34.9056253;-88.487458
END:VEVENT
END:VCALENDAR