BEGIN:VCALENDAR
VERSION:2.0
PRODID:-//Tukios.com/
BEGIN:VEVENT
UID:010871a6-4a33-4c8e-80b4-085f445a3a29@www.magnoliafuneralhome.net
DTSTAMP:20260421T212315Z
DTSTART:20260424T190000Z
DTEND:20260424T200000Z
SUMMARY:Funeral Service
DESCRIPTION:
URL:https://www.magnoliafuneralhome.net/obituaries/mary-smith-2026-1
LOCATION: 2024 Hwy 72 East Annex  Corinth MS 38834
GEO:34.9056253;-88.487458
END:VEVENT
END:VCALENDAR