BEGIN:VCALENDAR
VERSION:2.0
PRODID:-//Tukios.com/
BEGIN:VEVENT
UID:140fb397-722d-4ebf-a25d-e11b7663f561@www.magnoliafuneralhome.net
DTSTAMP:20260424T220648Z
DTSTART:20260426T183000Z
DTEND:20260426T200000Z
SUMMARY:Visitation
DESCRIPTION:
URL:https://www.magnoliafuneralhome.net/obituaries/peggy-mcdaniel
LOCATION:Wheeler Grove Baptist Church 21 Co Rd 519  Corinth MS 38834
GEO:34.8582279;-88.6148987
END:VEVENT
END:VCALENDAR