BEGIN:VCALENDAR
VERSION:2.0
PRODID:-//Tukios.com/
BEGIN:VEVENT
UID:72c93ec4-fe65-415d-9634-b7b70fc56e16@www.magnoliafuneralhome.net
DTSTAMP:20260424T220050Z
DTSTART:20260426T200000Z
DTEND:20260426T210000Z
SUMMARY:Funeral Service
DESCRIPTION:
URL:https://www.magnoliafuneralhome.net/obituaries/peggy-mcdaniel
LOCATION:Wheeler Grove Baptist Church 21 Co Rd 519  Corinth MS 38834
GEO:34.8582279;-88.6148987
END:VEVENT
END:VCALENDAR