BEGIN:VCALENDAR
VERSION:2.0
PRODID:-//Tukios.com/
BEGIN:VEVENT
UID:0b301d32-0bb0-492b-950e-82aa50d5f26f@www.magnoliafuneralhome.net
DTSTAMP:20260421T010630Z
DTSTART:20260422T170000Z
DTEND:20260422T190000Z
SUMMARY:Visitation
DESCRIPTION:
URL:https://www.magnoliafuneralhome.net/obituaries/vickie-lewis
LOCATION:Magnolia Funeral Home - East 2024 Hwy 72 East Annex  Corinth MS 
	38834
GEO:34.9056253;-88.487458
END:VEVENT
END:VCALENDAR