BEGIN:VCALENDAR
VERSION:2.0
PRODID:-//Tukios.com/
BEGIN:VEVENT
UID:10726b83-0ad3-4a50-b4a4-496172f1a91b@www.magnoliafuneralhome.net
DTSTAMP:20260421T011604Z
DTSTART:20260422T190000Z
DTEND:20260422T200000Z
SUMMARY:Funeral Service
DESCRIPTION:
URL:https://www.magnoliafuneralhome.net/obituaries/vickie-lewis
LOCATION:Magnolia Funeral Home - East 2024 Hwy 72 East Annex  Corinth MS 
	38834
GEO:34.9056253;-88.487458
END:VEVENT
END:VCALENDAR